BEGIN:VCALENDAR
VERSION:2.0
PRODID:-//Bristol Ensemble - ECPv6.11.2.1//NONSGML v1.0//EN
CALSCALE:GREGORIAN
METHOD:PUBLISH
X-WR-CALNAME:Bristol Ensemble
X-ORIGINAL-URL:https://bristolensemble.com
X-WR-CALDESC:Events for Bristol Ensemble
REFRESH-INTERVAL;VALUE=DURATION:PT1H
X-Robots-Tag:noindex
X-PUBLISHED-TTL:PT1H
BEGIN:VTIMEZONE
TZID:Europe/London
BEGIN:DAYLIGHT
TZOFFSETFROM:+0000
TZOFFSETTO:+0100
TZNAME:BST
DTSTART:20230326T010000
END:DAYLIGHT
BEGIN:STANDARD
TZOFFSETFROM:+0100
TZOFFSETTO:+0000
TZNAME:GMT
DTSTART:20231029T010000
END:STANDARD
END:VTIMEZONE
BEGIN:VEVENT
DTSTART;TZID=Europe/London:20230917T150000
DTEND;TZID=Europe/London:20230917T160000
DTSTAMP:20260421T174106
CREATED:20230707T200338Z
LAST-MODIFIED:20230707T200338Z
UID:10000237-1694962800-1694966400@bristolensemble.com
SUMMARY:Tea-Time Concert
DESCRIPTION:Schubert String Quintet in C D.956 \nWritten just two months before the composer’s death\, Schubert’s String Quintet is widely regarded by many as his finest chamber work and one of the most important of the repertoire. It has been described as ‘sublime’ and having ‘bottomless pathos’. The Adagio second movement is tranquilly sublime\, and is so treasured that it has become one of the most requested pieces on Desert Island Discs. \nTea and home made cakes served at 4pm. \nTickets £15 (£13 for those on low incomes)\, available online from Eventbrite or on the door. Under 18s free of charge.
URL:https://bristolensemble.com/event/tea-time-concert-sept-2023/
LOCATION:Christ Church\, Newmarket Road\, Nailsworth\, GL6 0DQ\, United Kingdom
ATTACH;FMTTYPE=image/jpeg:https://bristolensemble.com/wp-content/uploads/2024/02/tea-time-sept-2023-website-event.jpg
END:VEVENT
END:VCALENDAR