BEGIN:VCALENDAR
VERSION:2.0
PRODID:-//Bristol Ensemble - ECPv6.11.2.1//NONSGML v1.0//EN
CALSCALE:GREGORIAN
METHOD:PUBLISH
X-WR-CALNAME:Bristol Ensemble
X-ORIGINAL-URL:https://bristolensemble.com
X-WR-CALDESC:Events for Bristol Ensemble
REFRESH-INTERVAL;VALUE=DURATION:PT1H
X-Robots-Tag:noindex
X-PUBLISHED-TTL:PT1H
BEGIN:VTIMEZONE
TZID:Europe/London
BEGIN:DAYLIGHT
TZOFFSETFROM:+0000
TZOFFSETTO:+0100
TZNAME:BST
DTSTART:20230326T010000
END:DAYLIGHT
BEGIN:STANDARD
TZOFFSETFROM:+0100
TZOFFSETTO:+0000
TZNAME:GMT
DTSTART:20231029T010000
END:STANDARD
END:VTIMEZONE
BEGIN:VEVENT
DTSTART;TZID=Europe/London:20231015T150000
DTEND;TZID=Europe/London:20231015T160000
DTSTAMP:20260423T114103
CREATED:20230707T210247Z
LAST-MODIFIED:20230707T210247Z
UID:10000240-1697382000-1697385600@bristolensemble.com
SUMMARY:Tea-Time Concert
DESCRIPTION:Book now\nBeethoven Septet Op.20 \nWritten in 1799 and premiered in 1800\, Beethoven’s Septet in E flat major enjoyed immediate and enduring success due to its youthful charm\, elegance and grace\, thematic richness and imaginative and skilful treatment of its motifs. Ingeniously scored for violin\, viola\, cello\, double bass\, clarinet\, horn and bassoon\, Beethoven is able to use the forces in a range of ever-changing instrumental textures and colour combinations\, with bassoon and cello freed from the traditional bass part by the presence of the double bass. The Septet’s six movements follow a traditional classical symphony structure with the addition of a Theme and Variations and a lively Scherzo. \nTea and home made cakes served at 4pm. \nTickets £15 (£13 for those on low incomes)\, available online from Eventbrite or on the door. Under 18s free of charge.
URL:https://bristolensemble.com/event/tea-time-concert-oct-2023/
LOCATION:Christ Church\, Newmarket Road\, Nailsworth\, GL6 0DQ\, United Kingdom
ATTACH;FMTTYPE=image/jpeg:https://bristolensemble.com/wp-content/uploads/2024/02/tea-time-oct-2023-website-event.jpg
END:VEVENT
END:VCALENDAR