BEGIN:VCALENDAR
VERSION:2.0
PRODID:-//Bristol Ensemble - ECPv6.11.2.1//NONSGML v1.0//EN
CALSCALE:GREGORIAN
METHOD:PUBLISH
X-WR-CALNAME:Bristol Ensemble
X-ORIGINAL-URL:https://bristolensemble.com
X-WR-CALDESC:Events for Bristol Ensemble
REFRESH-INTERVAL;VALUE=DURATION:PT1H
X-Robots-Tag:noindex
X-PUBLISHED-TTL:PT1H
BEGIN:VTIMEZONE
TZID:Europe/London
BEGIN:DAYLIGHT
TZOFFSETFROM:+0000
TZOFFSETTO:+0100
TZNAME:BST
DTSTART:20230326T010000
END:DAYLIGHT
BEGIN:STANDARD
TZOFFSETFROM:+0100
TZOFFSETTO:+0000
TZNAME:GMT
DTSTART:20231029T010000
END:STANDARD
END:VTIMEZONE
BEGIN:VEVENT
DTSTART;TZID=Europe/London:20231018T193000
DTEND;TZID=Europe/London:20231018T213000
DTSTAMP:20260423T140649
CREATED:20230517T212521Z
LAST-MODIFIED:20230517T212521Z
UID:10000145-1697657400-1697664600@bristolensemble.com
SUMMARY:Beethoven 5 by candlelight
DESCRIPTION:Book now\nBristol Ensemble\nRoger Huckle conductor\nViv Mclean piano \nBeethoven Piano Concerto No. 5 in E-flat major\, Op. 73 “Emperor”\nBeethoven Symphony No. 5\, Op. 67 \nBeethoven’s iconic Symphony No. 5 is widely considered one of the cornerstones of western music. First performed in Vienna’s Theater an der Wien in 1808\, the work achieved its prodigious reputation soon afterward and is described as “one of the most important works of the time”. The symphony\, and the four-note opening motif in particular\, are known worldwide\, with the motif appearing frequently in popular culture\, from disco versions to rock and roll covers\, to uses in film and television. \nEqual in stature to the Fifth Symphony\, Beethoven’s Piano Concerto No. 5 redefined the relationship between the piano and the orchestra\, and its heroic and majestic character makes it one of the best-loved works of the repertoire. \nThe virtuosic pianist Viv McLean joins the Bristol Ensemble for what will be a memorable evening in the candlelit setting of St George’s Bristol. \nTickets from £10 to £30 plus St George’s booking fees\, available online at www.stgeorgesbristol.co.uk\, by phone on 0117 929 4929 and over the counter at St George’s Bristol.
URL:https://bristolensemble.com/event/beethoven-5/
LOCATION:St George’s Bristol\, Great George Street\, Bristol\, BS1 5RR\, United Kingdom
ATTACH;FMTTYPE=image/png:https://bristolensemble.com/wp-content/uploads/2024/02/Beethoven-5-by-candlelight-169.png
END:VEVENT
END:VCALENDAR