BEGIN:VCALENDAR
VERSION:2.0
PRODID:-//Bristol Ensemble - ECPv6.11.2.1//NONSGML v1.0//EN
CALSCALE:GREGORIAN
METHOD:PUBLISH
X-ORIGINAL-URL:https://bristolensemble.com
X-WR-CALDESC:Events for Bristol Ensemble
REFRESH-INTERVAL;VALUE=DURATION:PT1H
X-Robots-Tag:noindex
X-PUBLISHED-TTL:PT1H
BEGIN:VTIMEZONE
TZID:Europe/London
BEGIN:DAYLIGHT
TZOFFSETFROM:+0000
TZOFFSETTO:+0100
TZNAME:BST
DTSTART:20230326T010000
END:DAYLIGHT
BEGIN:STANDARD
TZOFFSETFROM:+0100
TZOFFSETTO:+0000
TZNAME:GMT
DTSTART:20231029T010000
END:STANDARD
END:VTIMEZONE
BEGIN:VEVENT
DTSTART;TZID=Europe/London:20231022T103000
DTEND;TZID=Europe/London:20231022T111500
DTSTAMP:20260423T104749
CREATED:20230830T104844Z
LAST-MODIFIED:20230830T104844Z
UID:10000258-1697970600-1697973300@bristolensemble.com
SUMMARY:MiniBeats - Super Strings!
DESCRIPTION:Book now\nJoin Presenter Laura Tanner and our fantastic MiniBeats string players for an interactive introduction to this family of instruments\, and to some of the wonderful music written and arranged for violins\, viola and cello! \nTickets: £8 (children & adults); 4-for-3 family ticket available \n10.30am show – concert most suitable for under 5s\n12.30pm show – concert most suitable for 4 – 8 year olds \nAges are guidelines only; both concerts are relaxed performances where everyone is welcome!\nA BSL Interpreter will be signing at both performances.\nEvent takes place on the floor of the auditorium with limited tickets avaiable. \nRunning time: 45 minutes \nNew for MiniBeats days – ‘MiniMakers’! \n11.30am and 1.30pm \nStay on after a MiniBeats concert to join Robyn as we expand our imaginations – from crafting to acting\, storytelling to dancing – let your little ones’ creativity run wild in these free\, fun-filled family sessions! \nEach MiniMakers session lasts approx. 45 mins – no need to pre-book
URL:https://bristolensemble.com/event/minibeats-super-strings/
LOCATION:St George’s Bristol\, Great George Street\, Bristol\, BS1 5RR\, United Kingdom
ATTACH;FMTTYPE=image/jpeg:https://bristolensemble.com/wp-content/uploads/2024/02/MiniBeats-16x9-1.jpg
END:VEVENT
END:VCALENDAR