BEGIN:VCALENDAR
VERSION:2.0
PRODID:-//Bristol Ensemble - ECPv6.11.2.1//NONSGML v1.0//EN
CALSCALE:GREGORIAN
METHOD:PUBLISH
X-WR-CALNAME:Bristol Ensemble
X-ORIGINAL-URL:https://bristolensemble.com
X-WR-CALDESC:Events for Bristol Ensemble
REFRESH-INTERVAL;VALUE=DURATION:PT1H
X-Robots-Tag:noindex
X-PUBLISHED-TTL:PT1H
BEGIN:VTIMEZONE
TZID:Europe/London
BEGIN:DAYLIGHT
TZOFFSETFROM:+0000
TZOFFSETTO:+0100
TZNAME:BST
DTSTART:20230326T010000
END:DAYLIGHT
BEGIN:STANDARD
TZOFFSETFROM:+0100
TZOFFSETTO:+0000
TZNAME:GMT
DTSTART:20231029T010000
END:STANDARD
END:VTIMEZONE
BEGIN:VEVENT
DTSTART;TZID=Europe/London:20231025T190000
DTEND;TZID=Europe/London:20231025T200000
DTSTAMP:20260423T153751
CREATED:20230725T113525Z
LAST-MODIFIED:20230725T113525Z
UID:10000250-1698260400-1698264000@bristolensemble.com
SUMMARY:Dark Side of the Moon
DESCRIPTION:Book now\nIn March 1973\, Gilmour\, Waters\, Mason and Wright released what was to become the fourth most successful album of all time. Dark side of the Moon spent over 1\,000 weeks in the Billboard charts and has sold 45 million copies worldwide. Rich\, lush and multi-layered\, it could have been designed for an orchestral treatment – which is exactly what the Bristol Ensemble will deliver in this specially-commissioned arrangement of this progressive rock classic in celebration of the iconic album’s 50th anniversary. The programme also includes music by Einaudi and Debussy.
URL:https://bristolensemble.com/event/dark-side-of-the-moon-stroud/
ATTACH;FMTTYPE=image/jpeg:https://bristolensemble.com/wp-content/uploads/2024/01/Dark-Side-of-the-Moon-MK.jpg
END:VEVENT
END:VCALENDAR