BEGIN:VCALENDAR
VERSION:2.0
PRODID:-//Bristol Ensemble - ECPv6.11.2.1//NONSGML v1.0//EN
CALSCALE:GREGORIAN
METHOD:PUBLISH
X-ORIGINAL-URL:https://bristolensemble.com
X-WR-CALDESC:Events for Bristol Ensemble
REFRESH-INTERVAL;VALUE=DURATION:PT1H
X-Robots-Tag:noindex
X-PUBLISHED-TTL:PT1H
BEGIN:VTIMEZONE
TZID:Europe/London
BEGIN:DAYLIGHT
TZOFFSETFROM:+0000
TZOFFSETTO:+0100
TZNAME:BST
DTSTART:20230326T010000
END:DAYLIGHT
BEGIN:STANDARD
TZOFFSETFROM:+0100
TZOFFSETTO:+0000
TZNAME:GMT
DTSTART:20231029T010000
END:STANDARD
END:VTIMEZONE
BEGIN:VEVENT
DTSTART;TZID=Europe/London:20231119T150000
DTEND;TZID=Europe/London:20231119T160000
DTSTAMP:20260425T133715
CREATED:20230709T132506Z
LAST-MODIFIED:20230709T132506Z
UID:10000248-1700406000-1700409600@bristolensemble.com
SUMMARY:Tea-Time Concert
DESCRIPTION:Book now\nVivaldi The Four Seasons\nVivaldi Oboe Concerto in C \nA musical journey through the year as Bristol Ensemble performs the enduringly popular set of violin concertos\, Vivaldi’s Four Seasons. The programme also includes Vivaldi’s sparkling and graceful Oboe Concerto in C. \nTea and home made cakes served at 4pm. \nTickets £15 (£13 for those on low incomes)\, available online from Eventbrite or on the door. Under 18s free of charge.
URL:https://bristolensemble.com/event/tea-time-concert-nov-2023/
LOCATION:Christ Church\, Newmarket Road\, Nailsworth\, GL6 0DQ\, United Kingdom
ATTACH;FMTTYPE=image/jpeg:https://bristolensemble.com/wp-content/uploads/2024/02/tea-time-nov-2023-website-event.jpg
END:VEVENT
END:VCALENDAR