BEGIN:VCALENDAR
VERSION:2.0
PRODID:-//Bristol Ensemble - ECPv6.11.2.1//NONSGML v1.0//EN
CALSCALE:GREGORIAN
METHOD:PUBLISH
X-ORIGINAL-URL:https://bristolensemble.com
X-WR-CALDESC:Events for Bristol Ensemble
REFRESH-INTERVAL;VALUE=DURATION:PT1H
X-Robots-Tag:noindex
X-PUBLISHED-TTL:PT1H
BEGIN:VTIMEZONE
TZID:Europe/London
BEGIN:DAYLIGHT
TZOFFSETFROM:+0000
TZOFFSETTO:+0100
TZNAME:BST
DTSTART:20250330T010000
END:DAYLIGHT
BEGIN:STANDARD
TZOFFSETFROM:+0100
TZOFFSETTO:+0000
TZNAME:GMT
DTSTART:20251026T010000
END:STANDARD
END:VTIMEZONE
BEGIN:VEVENT
DTSTART;TZID=Europe/London:20251219T193000
DTEND;TZID=Europe/London:20251219T220000
DTSTAMP:20260421T121102
CREATED:20250804T212631Z
LAST-MODIFIED:20251201T144419Z
UID:10000598-1766172600-1766181600@bristolensemble.com
SUMMARY:*Sold out* Christmas Spectacular
DESCRIPTION:Exultate Singers\nBristol Ensemble\nDavid Ogden conductor\nRoger Huckle director \nBristol Ensemble and Exultate Singers perform their annual feast of beautiful Christmas music\, combining light-hearted joyfulness with atmospheric and moving carols and orchestral music\, under the direction of David Ogden and Roger Huckle. \n“The best Christmas show ever. Great mix of music\, fantastic conductor\, audience participation and comedy. What more could you ask for – fantastic.” Audience member \n“A pure delight – a joyful mix of carols\, classical pieces\, comedy and audience participation – Christmas has arrived!” Audience member
URL:https://bristolensemble.com/event/christmas-spectacular-exultate-2025/
LOCATION:St George’s Bristol\, Great George Street\, Bristol\, BS1 5RR\, United Kingdom
ATTACH;FMTTYPE=image/jpeg:https://bristolensemble.com/wp-content/uploads/2024/09/christmas-spec-header-scaled.jpg
END:VEVENT
END:VCALENDAR