BEGIN:VCALENDAR
VERSION:2.0
PRODID:-//Bristol Ensemble - ECPv6.11.2.1//NONSGML v1.0//EN
CALSCALE:GREGORIAN
METHOD:PUBLISH
X-ORIGINAL-URL:https://bristolensemble.com
X-WR-CALDESC:Events for Bristol Ensemble
REFRESH-INTERVAL;VALUE=DURATION:PT1H
X-Robots-Tag:noindex
X-PUBLISHED-TTL:PT1H
BEGIN:VTIMEZONE
TZID:Europe/London
BEGIN:DAYLIGHT
TZOFFSETFROM:+0000
TZOFFSETTO:+0100
TZNAME:BST
DTSTART:20250330T010000
END:DAYLIGHT
BEGIN:STANDARD
TZOFFSETFROM:+0100
TZOFFSETTO:+0000
TZNAME:GMT
DTSTART:20251026T010000
END:STANDARD
BEGIN:DAYLIGHT
TZOFFSETFROM:+0000
TZOFFSETTO:+0100
TZNAME:BST
DTSTART:20260329T010000
END:DAYLIGHT
BEGIN:STANDARD
TZOFFSETFROM:+0100
TZOFFSETTO:+0000
TZNAME:GMT
DTSTART:20261025T010000
END:STANDARD
END:VTIMEZONE
BEGIN:VEVENT
DTSTART;TZID=Europe/London:20260116T183000
DTEND;TZID=Europe/London:20260116T193000
DTSTAMP:20260424T112829
CREATED:20251201T140331Z
LAST-MODIFIED:20251201T140358Z
UID:10000624-1768588200-1768591800@bristolensemble.com
SUMMARY:Voices for Life: Stardust
DESCRIPTION:Stardust is back! Join 200 children from Wiltshire on their musical adventure through space. \nThrough a series of school workshops and rehearsals\, the children have discovered different feeling planets on a magical journey to galaxies new. Are you ready to hear their story? \nWritten by Jools Scott and Sue Curtis\, Stardust is Voices for Life’s flagship commission. The children will be conducted by Kate Courage\, accompanied by the Bristol Ensemble\, and narrated by John Telfer (The Archers). \nIt’s suitable for any age! \nVoices for Life envisions a world where every child has the chance to create music\, enhancing wellbeing and building vibrant communities. Harnessing the power of music\, creativity and performance\, we enable children to dream big and discover their potential. \nProceeds from ticket sales go towards future Voices for Life projects\, bringing more musical opportunities to children and inspiring them to be happy and confident through music.
URL:https://bristolensemble.com/event/voices-for-life-stardust-jan-2026/2026-01-16/
LOCATION:St George’s Bristol\, Great George Street\, Bristol\, BS1 5RR\, United Kingdom
ATTACH;FMTTYPE=image/jpeg:https://bristolensemble.com/wp-content/uploads/2024/02/Stardust-Wells-16x9-1.jpg
END:VEVENT
BEGIN:VEVENT
DTSTART;TZID=Europe/London:20260114T183000
DTEND;TZID=Europe/London:20260114T193000
DTSTAMP:20260424T112829
CREATED:20251201T140331Z
LAST-MODIFIED:20251201T140358Z
UID:10000623-1768415400-1768419000@bristolensemble.com
SUMMARY:Voices for Life: Stardust
DESCRIPTION:Stardust is back! Join 200 children from Wiltshire on their musical adventure through space. \nThrough a series of school workshops and rehearsals\, the children have discovered different feeling planets on a magical journey to galaxies new. Are you ready to hear their story? \nWritten by Jools Scott and Sue Curtis\, Stardust is Voices for Life’s flagship commission. The children will be conducted by Kate Courage\, accompanied by the Bristol Ensemble\, and narrated by John Telfer (The Archers). \nIt’s suitable for any age! \nVoices for Life envisions a world where every child has the chance to create music\, enhancing wellbeing and building vibrant communities. Harnessing the power of music\, creativity and performance\, we enable children to dream big and discover their potential. \nProceeds from ticket sales go towards future Voices for Life projects\, bringing more musical opportunities to children and inspiring them to be happy and confident through music.
URL:https://bristolensemble.com/event/voices-for-life-stardust-jan-2026/2026-01-14/
LOCATION:St George’s Bristol\, Great George Street\, Bristol\, BS1 5RR\, United Kingdom
ATTACH;FMTTYPE=image/jpeg:https://bristolensemble.com/wp-content/uploads/2024/02/Stardust-Wells-16x9-1.jpg
END:VEVENT
BEGIN:VEVENT
DTSTART;TZID=Europe/London:20250618T183000
DTEND;TZID=Europe/London:20250618T200000
DTSTAMP:20260424T112829
CREATED:20250305T120436Z
LAST-MODIFIED:20250305T120436Z
UID:10000525-1750271400-1750276800@bristolensemble.com
SUMMARY:Stardust and The Space Between The Stars
DESCRIPTION:Stardust is back and this time with its brand-new prequel\, The Space Between the Stars\, performed in one unforgettable event! \nJoin 250 children from Bath and North East Somerset primary schools and the Voices for Life Bath Children’s Choir on their musical journey through space. \nWritten by Jools Scott and Sue Curtis\, Stardust and The Space Between the Stars have been commissioned by Voices for Life. Through a series of school workshops and rehearsals\, our young space explorers have been preparing to discover what exciting adventures await them beyond Earth’s horizons! They’ll encounter various challenges as they seek out a new planet to call home\, but we’re sure that with courage and the help of their newfound friends\, they’ll make it through. \nThe children’s performance will be conducted by Katrine Reimers\, accompanied by Bristol Ensemble\, and narrated by John Telfer from The Archers. \nIt is suitable for any age! \nVoices for Life envisions a world where every child has the chance to create music\, enhancing wellbeing and fostering vibrant communities. By harnessing the power of music\, creativity\, and performance\, we empower children on a journey of self-discovery and growth. \nProceeds from ticket sales will go towards future Voices for Life projects\, bringing more musical opportunities to primary school children and inspiring them to be happy and confident through music. \nTickets from £4\, available from Bath Box Office online at bathboxoffice.org.uk and by phone on 01225 463362.
URL:https://bristolensemble.com/event/the-space-between-the-stars/
LOCATION:Bath Abbey\, Bath\, BA1 1LT\, United Kingdom
ATTACH;FMTTYPE=image/png:https://bristolensemble.com/wp-content/uploads/2025/03/Stardust_TSBTS_180625_Box-Office-Image_V4.png
END:VEVENT
BEGIN:VEVENT
DTSTART;TZID=Europe/London:20250326T183000
DTEND;TZID=Europe/London:20250326T193000
DTSTAMP:20260424T112829
CREATED:20241219T162119Z
LAST-MODIFIED:20241219T162119Z
UID:10000489-1743013800-1743017400@bristolensemble.com
SUMMARY:Voices for Life: Stardust
DESCRIPTION:Stardust is back! Join 120 children from South Gloucestershire primary schools and the Voices for Life Bath Children’s Choir on their musical journey through space. \nWritten by Jools Scott and Sue Curtis\, Stardust was commissioned by Voices for Life. Through a series of school workshops and rehearsals\, the children have experienced a magical journey visiting different feeling planets on their mission to Planet Zarg. \nThe children’s performance will be conducted by George Bevan\, accompanied by Bristol Ensemble\, and narrated by John Telfer from The Archers. \nIt is suitable for any age! \nVoices for Life envisions a world where every child has the chance to create music\, enhancing wellbeing and fostering vibrant communities. By harnessing the power of music\, creativity\, and performance\, we empower children on a journey of self-discovery and growth. \nProceeds from ticket sales will go towards future Voices for Life projects\, bringing more musical opportunities to primary school children and inspiring them to be happy and confident through music.
URL:https://bristolensemble.com/event/stardust-march-2024/
LOCATION:St George’s Bristol\, Great George Street\, Bristol\, BS1 5RR\, United Kingdom
ATTACH;FMTTYPE=image/jpeg:https://bristolensemble.com/wp-content/uploads/2024/02/Stardust-Wells-16x9-1.jpg
END:VEVENT
END:VCALENDAR