BEGIN:VCALENDAR
VERSION:2.0
PRODID:-//Bristol Ensemble - ECPv6.11.2.1//NONSGML v1.0//EN
CALSCALE:GREGORIAN
METHOD:PUBLISH
X-ORIGINAL-URL:https://bristolensemble.com
X-WR-CALDESC:Events for Bristol Ensemble
REFRESH-INTERVAL;VALUE=DURATION:PT1H
X-Robots-Tag:noindex
X-PUBLISHED-TTL:PT1H
BEGIN:VTIMEZONE
TZID:Europe/London
BEGIN:DAYLIGHT
TZOFFSETFROM:+0000
TZOFFSETTO:+0100
TZNAME:BST
DTSTART:20260329T010000
END:DAYLIGHT
BEGIN:STANDARD
TZOFFSETFROM:+0100
TZOFFSETTO:+0000
TZNAME:GMT
DTSTART:20261025T010000
END:STANDARD
END:VTIMEZONE
BEGIN:VEVENT
DTSTART;TZID=Europe/London:20260214T193000
DTEND;TZID=Europe/London:20260214T213000
DTSTAMP:20260425T133901
CREATED:20260106T133110Z
LAST-MODIFIED:20260106T133110Z
UID:10000652-1771097400-1771104600@bristolensemble.com
SUMMARY:Bridgerton in concert - Valentine's special by candlelight
DESCRIPTION:Dearest gentle reader… this Valentine’s Day\, let the Bristol Ensemble sweep you away with lush renditions of pop favourites and classical gems from the Netflix series Bridgerton – a breathtaking evening of glittering lights\, soaring strings and romance!
URL:https://bristolensemble.com/event/bridgerton-in-concert-valentines/
LOCATION:Riverfront Theatre\, Kingsway\, Newport\, NP20 1HG
ATTACH;FMTTYPE=image/jpeg:https://bristolensemble.com/wp-content/uploads/2025/07/Bridgerton-Background.jpg
END:VEVENT
END:VCALENDAR