BEGIN:VCALENDAR
VERSION:2.0
PRODID:-//Bristol Ensemble - ECPv6.11.2.1//NONSGML v1.0//EN
CALSCALE:GREGORIAN
METHOD:PUBLISH
X-ORIGINAL-URL:https://bristolensemble.com
X-WR-CALDESC:Events for Bristol Ensemble
REFRESH-INTERVAL;VALUE=DURATION:PT1H
X-Robots-Tag:noindex
X-PUBLISHED-TTL:PT1H
BEGIN:VTIMEZONE
TZID:Europe/London
BEGIN:DAYLIGHT
TZOFFSETFROM:+0000
TZOFFSETTO:+0100
TZNAME:BST
DTSTART:20250330T010000
END:DAYLIGHT
BEGIN:STANDARD
TZOFFSETFROM:+0100
TZOFFSETTO:+0000
TZNAME:GMT
DTSTART:20251026T010000
END:STANDARD
END:VTIMEZONE
BEGIN:VEVENT
DTSTART;TZID=Europe/London:20250719T180000
DTEND;TZID=Europe/London:20250719T230000
DTSTAMP:20260425T204351
CREATED:20250508T104235Z
LAST-MODIFIED:20250508T104235Z
UID:10000550-1752948000-1752966000@bristolensemble.com
SUMMARY:If Opera: Tales from the SS Great Britain
DESCRIPTION:This summer\, If Opera\, one of the UK’s most progressive and exciting opera ensembles\, is partnering with the SS Great Britain Trust to bring a spectacular dining performance to Bristol. \nTales from the SS Great Britain follows a cast of characters who share their stories of love and laughter\, tragedy and loss. Passengers will come to life like never before through music and songs that promise to both sadden and gladden the heart. \nMr Brunel will be present to compère for the evening. He will guide guests as they journey through the lives of fascinating characters who travelled at sea and from operatic history. The performance is accompanied by three delicious courses served on board the iconic SS Great Britain in the elegant First Class Dining Saloon. \nThe evening will feature some of opera’s most beloved music accompanied by musicians from the Bristol Ensemble\, where guests can delight in beautiful arias from some of the greatest composers in history. \nDoors open at 6pm\nArrival drink\n3-course dinner\nIf Opera performances between courses\nFinishes at 11pm \nTickets can be bought individually or as tables of up to 8 people. Please note bookings for this event close on 4 July.
URL:https://bristolensemble.com/event/tales-from-the-ss-great-britain/
LOCATION:SS Great Britain\, Great Western Dockyard\, Gas Ferry Road\, Bristol\, BS1 6TY\, United Kingdom
ATTACH;FMTTYPE=image/jpeg:https://bristolensemble.com/wp-content/uploads/2025/05/SSGB-If-Opera.jpg
END:VEVENT
END:VCALENDAR