BEGIN:VCALENDAR
VERSION:2.0
PRODID:-//Bristol Ensemble - ECPv6.11.2.1//NONSGML v1.0//EN
CALSCALE:GREGORIAN
METHOD:PUBLISH
X-WR-CALNAME:Bristol Ensemble
X-ORIGINAL-URL:https://bristolensemble.com
X-WR-CALDESC:Events for Bristol Ensemble
REFRESH-INTERVAL;VALUE=DURATION:PT1H
X-Robots-Tag:noindex
X-PUBLISHED-TTL:PT1H
BEGIN:VTIMEZONE
TZID:Europe/London
BEGIN:DAYLIGHT
TZOFFSETFROM:+0000
TZOFFSETTO:+0100
TZNAME:BST
DTSTART:20250330T010000
END:DAYLIGHT
BEGIN:STANDARD
TZOFFSETFROM:+0100
TZOFFSETTO:+0000
TZNAME:GMT
DTSTART:20251026T010000
END:STANDARD
END:VTIMEZONE
BEGIN:VEVENT
DTSTART;TZID=Europe/London:20250606T203000
DTEND;TZID=Europe/London:20250606T213000
DTSTAMP:20260424T235105
CREATED:20250305T110638Z
LAST-MODIFIED:20250520T140305Z
UID:10000559-1749241800-1749245400@bristolensemble.com
SUMMARY:Breathe Music: Mozart and More
DESCRIPTION:Join the Bristol Ensemble for Mozart and More\, an evening of wonderful music at The Crown\, Pilton. Featuring Mozart’s Duo Concertante\, presented in a rarely heard sextet arrangement\, the concert explores both the timeless and the inventive. Alongside the elegance of Haydn\, Caroline Shaw’s Entr’acte brings a modern twist—drawing from Haydn’s own work but venturing into a whimsical\, mirror-world where tradition transforms into vibrant new forms. Mozart and More promises an evening of captivating contrasts and delicate transitions. \nThere will be two separate one-hour performances of the programme on the evening. The first will start at 6.30pm\, the second at 8.30pm. With an early start\, the 6.30pm performance encourages a family experience! When purchasing your ticket\, just choose your preferred time. \nSettle in with a glass of wine\, relax\, and experience this outstanding musical offering in the intimate\, welcoming atmosphere of The Crown—a village pub with a history as rich as the music itself.
URL:https://bristolensemble.com/event/mozart-and-more/2025-06-06/2/
LOCATION:The Crown\, Pilton\, Conduit Square\, Pilton\, Shepton Mallet\, BA4 4EA\, United Kingdom
ATTACH;FMTTYPE=image/jpeg:https://bristolensemble.com/wp-content/uploads/2025/03/mozart-and-more.jpg
ORGANIZER;CN="Breathe Music":MAILTO:admin@breathe-music.co.uk
END:VEVENT
BEGIN:VEVENT
DTSTART;TZID=Europe/London:20250606T183000
DTEND;TZID=Europe/London:20250606T193000
DTSTAMP:20260424T235105
CREATED:20250305T110638Z
LAST-MODIFIED:20250520T140305Z
UID:10000558-1749234600-1749238200@bristolensemble.com
SUMMARY:Breathe Music: Mozart and More
DESCRIPTION:Join the Bristol Ensemble for Mozart and More\, an evening of wonderful music at The Crown\, Pilton. Featuring Mozart’s Duo Concertante\, presented in a rarely heard sextet arrangement\, the concert explores both the timeless and the inventive. Alongside the elegance of Haydn\, Caroline Shaw’s Entr’acte brings a modern twist—drawing from Haydn’s own work but venturing into a whimsical\, mirror-world where tradition transforms into vibrant new forms. Mozart and More promises an evening of captivating contrasts and delicate transitions. \nThere will be two separate one-hour performances of the programme on the evening. The first will start at 6.30pm\, the second at 8.30pm. With an early start\, the 6.30pm performance encourages a family experience! When purchasing your ticket\, just choose your preferred time. \nSettle in with a glass of wine\, relax\, and experience this outstanding musical offering in the intimate\, welcoming atmosphere of The Crown—a village pub with a history as rich as the music itself.
URL:https://bristolensemble.com/event/mozart-and-more/2025-06-06/1/
LOCATION:The Crown\, Pilton\, Conduit Square\, Pilton\, Shepton Mallet\, BA4 4EA\, United Kingdom
ATTACH;FMTTYPE=image/jpeg:https://bristolensemble.com/wp-content/uploads/2025/03/mozart-and-more.jpg
ORGANIZER;CN="Breathe Music":MAILTO:admin@breathe-music.co.uk
END:VEVENT
END:VCALENDAR