BEGIN:VCALENDAR
VERSION:2.0
PRODID:-//Bristol Ensemble - ECPv6.11.2.1//NONSGML v1.0//EN
CALSCALE:GREGORIAN
METHOD:PUBLISH
X-ORIGINAL-URL:https://bristolensemble.com
X-WR-CALDESC:Events for Bristol Ensemble
REFRESH-INTERVAL;VALUE=DURATION:PT1H
X-Robots-Tag:noindex
X-PUBLISHED-TTL:PT1H
BEGIN:VTIMEZONE
TZID:Europe/London
BEGIN:DAYLIGHT
TZOFFSETFROM:+0000
TZOFFSETTO:+0100
TZNAME:BST
DTSTART:20250330T010000
END:DAYLIGHT
BEGIN:STANDARD
TZOFFSETFROM:+0100
TZOFFSETTO:+0000
TZNAME:GMT
DTSTART:20251026T010000
END:STANDARD
END:VTIMEZONE
BEGIN:VEVENT
DTSTART;TZID=Europe/London:20250613T193000
DTEND;TZID=Europe/London:20250613T213000
DTSTAMP:20260421T192340
CREATED:20250305T115443Z
LAST-MODIFIED:20250305T115443Z
UID:10000524-1749843000-1749850200@bristolensemble.com
SUMMARY:Vivaldi Four Seasons by Candlelight
DESCRIPTION:Bristol Ensemble\nRoger Huckle director/soloist \nAntonio Vivaldi The Four Seasons\nLudovico Einaudi Primavera\, Divenire\, Petricor\, I Giorni \nThe wonderful nature inspired music of Vivaldi and Einaudi come together in this stunning summer concert. \nVivaldi’s The Four Seasons is one of the best loved pieces of classical music managing to capture the character of the Italian countryside through a year as the landscape and nature changes with the seasons. As the first example of programme music we introduce the story of The Four Seasons in a humorous and revealing way. \nThe natural world is also beautifully depicted by the works of Ludovico Einaudi as he takes us through Spring\, the evocative Petricor – smell of rain and I Giorni – ‘In the Days\, Our Life’\, which conclude an emotional and uplifting programme of music. \nTickets £21 available online at www.theprincesstheatre.co.uk/events/bristol-ensemble\, by phone on 01278 784464 or over the counter at The Princess Theatre. \n 
URL:https://bristolensemble.com/event/vivaldi-four-seasons-princess-theatre/
LOCATION:The Princess Theatre and Arts Centre\, Princess Street\, Burnham-on-Sea\, Somerset\, TA8 1EH
ATTACH;FMTTYPE=image/jpeg:https://bristolensemble.com/wp-content/uploads/2025/03/Bristol-Ensemble-Candlelight-6-web.jpg
END:VEVENT
END:VCALENDAR